BEGIN:VCALENDAR
VERSION:2.0
PRODID:-//Galway Fringe Festival - ECPv4.5.8//NONSGML v1.0//EN
CALSCALE:GREGORIAN
METHOD:PUBLISH
X-WR-CALNAME:Galway Fringe Festival
X-ORIGINAL-URL:http://www.galwayfringe.ie
X-WR-CALDESC:Events for Galway Fringe Festival
BEGIN:VEVENT
DTSTART;TZID=Europe/Dublin:20170730T220000
DTEND;TZID=Europe/Dublin:20170730T235900
DTSTAMP:20171108T085620
CREATED:20170613T141853Z
LAST-MODIFIED:20170626T114434Z
UID:5668-1501452000-1501459140@www.galwayfringe.ie
SUMMARY:Fringe Festival Ball and Award Ceremony
DESCRIPTION:This is it &#8211; the grand\, but fun\, culmination of all the blood\, sweat\, and tears that has gone into being part of the Galway Fringe Festival.\nTo recognise the serious\, nigh obsessive level of work and commitment that goes into putting on a performance or exhibition\, the Galway Fringe Festival will be selecting the creme-de-la-creme of the underground. From among the many actors\, artists\, and comedians a select few will receive an award\, but everybody can celebrate another successful festival. Come along to The Loft\, marvel at those nervous nominees\, and revel in the joy that represents the 16 days of the fringe. \n
URL:http://www.galwayfringe.ie/event/fringe-festival-ball-and-award-ceremony/
LOCATION:The Loft @ Seven Bridgestreet
GEO:53.2718717;-9.0550251
X-APPLE-STRUCTURED-LOCATION;VALUE=URI;X-ADDRESS=The Loft @ Seven Bridgestreet;X-APPLE-RADIUS=500;X-TITLE=The Loft @ Seven Bridgestreet:geo:-9.0550251,53.2718717
CATEGORIES:Events
ATTACH;FMTTYPE=image/jpeg:http://www.galwayfringe.ie/wp-content/uploads/2017/06/35375728757-32332027-2.jpg
END:VEVENT
END:VCALENDAR