BEGIN:VCALENDAR
VERSION:2.0
PRODID:-//Galway Fringe Festival - ECPv4.5.8//NONSGML v1.0//EN
CALSCALE:GREGORIAN
METHOD:PUBLISH
X-WR-CALNAME:Galway Fringe Festival
X-ORIGINAL-URL:http://www.galwayfringe.ie
X-WR-CALDESC:Events for Galway Fringe Festival
BEGIN:VEVENT
DTSTART;TZID=Europe/Dublin:20170727T200000
DTEND;TZID=Europe/Dublin:20170727T220000
DTSTAMP:20171108T091107
CREATED:20170622T103420Z
LAST-MODIFIED:20170622T103525Z
UID:6043-1501185600-1501192800@www.galwayfringe.ie
SUMMARY:Kelvin Busher
DESCRIPTION:Kelvin Busher is a songwriter\, composer performer and musician . Regarded as one of the finest upright bass players in the music business He is noted for his energy as a performer coupled with his ability as a musician. This has acquired him a lot of praise and attention both at home and abroad. \nHe has shared stages with both national and international act such as Kenny Rogers\, Shane MacGowan\, Jerry Fish\, Imelda May and has done session work for Sharon Shannon\, Jack L\, The Niall Toner Band and Joe Fury and the Hayride to name but a few. \nKelvin will be trying out a collection of new songs due for release in the coming months in this show for The Galway Fringe Festival \n
URL:http://www.galwayfringe.ie/event/kelvin-busher/
LOCATION:11 Quay Street\, Galway\, County Galway\, Republic of Ireland
GEO:53.2709211;-9.054289
X-APPLE-STRUCTURED-LOCATION;VALUE=URI;X-ADDRESS=11 Quay Street Galway County Galway Republic of Ireland;X-APPLE-RADIUS=500;X-TITLE=11 Quay Street:geo:-9.054289,53.2709211
CATEGORIES:Music
ATTACH;FMTTYPE=image/jpeg:http://www.galwayfringe.ie/wp-content/uploads/2017/06/35591987593-32606725-1.jpg
END:VEVENT
END:VCALENDAR